BEGIN:VCALENDAR
VERSION:2.0
PRODID:-//Breathe N Fashion - ECPv6.15.20//NONSGML v1.0//EN
CALSCALE:GREGORIAN
METHOD:PUBLISH
X-ORIGINAL-URL:https://breathenfashion.com
X-WR-CALDESC:Events for Breathe N Fashion
REFRESH-INTERVAL;VALUE=DURATION:PT1H
X-Robots-Tag:noindex
X-PUBLISHED-TTL:PT1H
BEGIN:VTIMEZONE
TZID:America/New_York
BEGIN:DAYLIGHT
TZOFFSETFROM:-0500
TZOFFSETTO:-0400
TZNAME:EDT
DTSTART:20190310T070000
END:DAYLIGHT
BEGIN:STANDARD
TZOFFSETFROM:-0400
TZOFFSETTO:-0500
TZNAME:EST
DTSTART:20191103T060000
END:STANDARD
BEGIN:DAYLIGHT
TZOFFSETFROM:-0500
TZOFFSETTO:-0400
TZNAME:EDT
DTSTART:20200308T070000
END:DAYLIGHT
BEGIN:STANDARD
TZOFFSETFROM:-0400
TZOFFSETTO:-0500
TZNAME:EST
DTSTART:20201101T060000
END:STANDARD
BEGIN:DAYLIGHT
TZOFFSETFROM:-0500
TZOFFSETTO:-0400
TZNAME:EDT
DTSTART:20210314T070000
END:DAYLIGHT
BEGIN:STANDARD
TZOFFSETFROM:-0400
TZOFFSETTO:-0500
TZNAME:EST
DTSTART:20211107T060000
END:STANDARD
END:VTIMEZONE
BEGIN:VEVENT
DTSTART;TZID=America/New_York:20200520T180000
DTEND;TZID=America/New_York:20200520T200000
DTSTAMP:20260423T111425
CREATED:20200519T182616Z
LAST-MODIFIED:20200519T182616Z
UID:1726-1589997600-1590004800@breathenfashion.com
SUMMARY:Instagram live w/Chef Brandee
DESCRIPTION:This week\, we are going to be making Jambalaya and I am so freaking excited. The ingredients are in my ‘Chef Brandee Recipes’ highlight over on my Instagram profile\, as well as in my Facebook group! We would love to have you join and cook along with us!
URL:https://breathenfashion.com/event/instagram-live-w-chef-brandee-3/
END:VEVENT
END:VCALENDAR