BEGIN:VCALENDAR
VERSION:2.0
PRODID:-//Breathe N Fashion - ECPv6.15.20//NONSGML v1.0//EN
CALSCALE:GREGORIAN
METHOD:PUBLISH
X-ORIGINAL-URL:https://breathenfashion.com
X-WR-CALDESC:Events for Breathe N Fashion
REFRESH-INTERVAL;VALUE=DURATION:PT1H
X-Robots-Tag:noindex
X-PUBLISHED-TTL:PT1H
BEGIN:VTIMEZONE
TZID:America/New_York
BEGIN:DAYLIGHT
TZOFFSETFROM:-0500
TZOFFSETTO:-0400
TZNAME:EDT
DTSTART:20190310T070000
END:DAYLIGHT
BEGIN:STANDARD
TZOFFSETFROM:-0400
TZOFFSETTO:-0500
TZNAME:EST
DTSTART:20191103T060000
END:STANDARD
BEGIN:DAYLIGHT
TZOFFSETFROM:-0500
TZOFFSETTO:-0400
TZNAME:EDT
DTSTART:20200308T070000
END:DAYLIGHT
BEGIN:STANDARD
TZOFFSETFROM:-0400
TZOFFSETTO:-0500
TZNAME:EST
DTSTART:20201101T060000
END:STANDARD
BEGIN:DAYLIGHT
TZOFFSETFROM:-0500
TZOFFSETTO:-0400
TZNAME:EDT
DTSTART:20210314T070000
END:DAYLIGHT
BEGIN:STANDARD
TZOFFSETFROM:-0400
TZOFFSETTO:-0500
TZNAME:EST
DTSTART:20211107T060000
END:STANDARD
END:VTIMEZONE
BEGIN:VEVENT
DTSTART;VALUE=DATE:20200801
DTEND;VALUE=DATE:20200816
DTSTAMP:20260423T070736
CREATED:20200802T160648Z
LAST-MODIFIED:20200802T160648Z
UID:1784-1596240000-1597535999@breathenfashion.com
SUMMARY:August Giveaway (pt. 1)
DESCRIPTION:August is my birthday month & I want to do a couple fun giveaways for you guys! This first one is a goodie box full of some of my favorite products: paperclip chain necklace\, paperclip chain bracelet\, fedora hat\, Maybelline lip gloss with hyaluronic acid\, and two pairs of blue light blocking glasses. Check out my Giveaway Highlight on Instagram! \nRules to enter: Like & Comment on all of my posts from 8/1 to 8/15 on Instagram! \nBonus entry: Follow me on LiketoKnow.it\, which is linked in the top left corner of my blog and on my profile on Instagram. \nAnd that’s it! Winner will be announced on my birthday (8/15)! Good luck 🙂
URL:https://breathenfashion.com/event/august-giveaway-pt-1/
END:VEVENT
END:VCALENDAR