BEGIN:VCALENDAR
VERSION:2.0
PRODID:-//Breathe N Fashion - ECPv6.15.20//NONSGML v1.0//EN
CALSCALE:GREGORIAN
METHOD:PUBLISH
X-WR-CALNAME:Breathe N Fashion
X-ORIGINAL-URL:https://breathenfashion.com
X-WR-CALDESC:Events for Breathe N Fashion
REFRESH-INTERVAL;VALUE=DURATION:PT1H
X-Robots-Tag:noindex
X-PUBLISHED-TTL:PT1H
BEGIN:VTIMEZONE
TZID:America/New_York
BEGIN:DAYLIGHT
TZOFFSETFROM:-0500
TZOFFSETTO:-0400
TZNAME:EDT
DTSTART:20190310T070000
END:DAYLIGHT
BEGIN:STANDARD
TZOFFSETFROM:-0400
TZOFFSETTO:-0500
TZNAME:EST
DTSTART:20191103T060000
END:STANDARD
BEGIN:DAYLIGHT
TZOFFSETFROM:-0500
TZOFFSETTO:-0400
TZNAME:EDT
DTSTART:20200308T070000
END:DAYLIGHT
BEGIN:STANDARD
TZOFFSETFROM:-0400
TZOFFSETTO:-0500
TZNAME:EST
DTSTART:20201101T060000
END:STANDARD
BEGIN:DAYLIGHT
TZOFFSETFROM:-0500
TZOFFSETTO:-0400
TZNAME:EDT
DTSTART:20210314T070000
END:DAYLIGHT
BEGIN:STANDARD
TZOFFSETFROM:-0400
TZOFFSETTO:-0500
TZNAME:EST
DTSTART:20211107T060000
END:STANDARD
END:VTIMEZONE
BEGIN:VEVENT
DTSTART;TZID=America/New_York:20200513T180000
DTEND;TZID=America/New_York:20200513T193000
DTSTAMP:20260423T174344
CREATED:20200512T181038Z
LAST-MODIFIED:20200512T181038Z
UID:1721-1589392800-1589398200@breathenfashion.com
SUMMARY:Instagram Live with Chef Brandee
DESCRIPTION:Chef Brandee will be teaching us how to make chicken piccata with some red potatoes! The ingredients are posted in the Chef Brandee Recipe highlights on my profile & they are also posted in the Facebook group! \nGrab the ingredients & come cook with us!
URL:https://breathenfashion.com/event/instagram-live-with-chef-brandee/
END:VEVENT
BEGIN:VEVENT
DTSTART;TZID=America/New_York:20200506T180000
DTEND;TZID=America/New_York:20200506T193000
DTSTAMP:20260423T174344
CREATED:20200501T020926Z
LAST-MODIFIED:20200501T020926Z
UID:1666-1588788000-1588793400@breathenfashion.com
SUMMARY:Instagram Live w/Chef Brandee
DESCRIPTION:Chef Brandee & I will be cooking a restaurant quality dish at the convenience of our homes. We would love to have you guys join in on the fun and cook alongside us!
URL:https://breathenfashion.com/event/instagram-live-w-chef-brandee-2/
END:VEVENT
BEGIN:VEVENT
DTSTART;TZID=America/New_York:20200429T183000
DTEND;TZID=America/New_York:20200429T193000
DTSTAMP:20260423T174344
CREATED:20200424T141008Z
LAST-MODIFIED:20200424T141039Z
UID:1563-1588185000-1588188600@breathenfashion.com
SUMMARY:Cooking with B & B
DESCRIPTION:Wednesday\, 6:30
URL:https://breathenfashion.com/event/cooking-with-b-b/
END:VEVENT
BEGIN:VEVENT
DTSTART;TZID=America/New_York:20200422T183000
DTEND;TZID=America/New_York:20200422T193000
DTSTAMP:20260423T174344
CREATED:20200417T203746Z
LAST-MODIFIED:20200417T205210Z
UID:1400-1587580200-1587583800@breathenfashion.com
SUMMARY:Instagram Live w/Chef Brandee
DESCRIPTION:Chef Brandee will be teaching us how to make restaurant quality meals at home.
URL:https://breathenfashion.com/event/instagram-live-w-chef-brandee/
END:VEVENT
BEGIN:VEVENT
DTSTART;TZID=America/New_York:20200415T183000
DTEND;TZID=America/New_York:20200415T193000
DTSTAMP:20260423T174344
CREATED:20200414T190017Z
LAST-MODIFIED:20200415T173257Z
UID:1140-1586975400-1586979000@breathenfashion.com
SUMMARY:Live Cooking with B & B
DESCRIPTION:
URL:https://breathenfashion.com/event/live-cooking-with-b-b/
END:VEVENT
END:VCALENDAR