BEGIN:VCALENDAR
VERSION:2.0
PRODID:-//Breathe N Fashion - ECPv6.15.20//NONSGML v1.0//EN
CALSCALE:GREGORIAN
METHOD:PUBLISH
X-ORIGINAL-URL:https://breathenfashion.com
X-WR-CALDESC:Events for Breathe N Fashion
REFRESH-INTERVAL;VALUE=DURATION:PT1H
X-Robots-Tag:noindex
X-PUBLISHED-TTL:PT1H
BEGIN:VTIMEZONE
TZID:America/New_York
BEGIN:DAYLIGHT
TZOFFSETFROM:-0500
TZOFFSETTO:-0400
TZNAME:EDT
DTSTART:20200308T070000
END:DAYLIGHT
BEGIN:STANDARD
TZOFFSETFROM:-0400
TZOFFSETTO:-0500
TZNAME:EST
DTSTART:20201101T060000
END:STANDARD
BEGIN:DAYLIGHT
TZOFFSETFROM:-0500
TZOFFSETTO:-0400
TZNAME:EDT
DTSTART:20210314T070000
END:DAYLIGHT
BEGIN:STANDARD
TZOFFSETFROM:-0400
TZOFFSETTO:-0500
TZNAME:EST
DTSTART:20211107T060000
END:STANDARD
BEGIN:DAYLIGHT
TZOFFSETFROM:-0500
TZOFFSETTO:-0400
TZNAME:EDT
DTSTART:20220313T070000
END:DAYLIGHT
BEGIN:STANDARD
TZOFFSETFROM:-0400
TZOFFSETTO:-0500
TZNAME:EST
DTSTART:20221106T060000
END:STANDARD
END:VTIMEZONE
BEGIN:VEVENT
DTSTART;VALUE=DATE:20210204
DTEND;VALUE=DATE:20210205
DTSTAMP:20260423T043147
CREATED:20210203T213943Z
LAST-MODIFIED:20210203T213943Z
UID:2042-1612396800-1612483199@breathenfashion.com
SUMMARY:Styling Sesh Thursday!
DESCRIPTION:This week\, I am styling my new 90 Degree by Reflex leggings I got from Amazon.
URL:https://breathenfashion.com/event/styling-sesh-thursday/
END:VEVENT
BEGIN:VEVENT
DTSTART;VALUE=DATE:20210207
DTEND;VALUE=DATE:20210208
DTSTAMP:20260423T043147
CREATED:20210203T214312Z
LAST-MODIFIED:20210203T214312Z
UID:2044-1612656000-1612742399@breathenfashion.com
SUMMARY:Soph & Rose Boutique Try-On
DESCRIPTION:I have 3 new pieces from Soph & Rose that I can’t wait to share with you! Anything from their website\, you can use my code BREA15 for 15% off your purchase! Link is under my discount codes tab. \nHere is their instagram handle if you want to stay up to date on new arrivals and sales: @shopsophandrose
URL:https://breathenfashion.com/event/soph-rose-boutique-try-on/
END:VEVENT
BEGIN:VEVENT
DTSTART;VALUE=DATE:20210412
DTEND;VALUE=DATE:20210413
DTSTAMP:20260423T043147
CREATED:20210412T161031Z
LAST-MODIFIED:20210412T161145Z
UID:2182-1618185600-1618271999@breathenfashion.com
SUMMARY:Spring Cleaning Share Week (Kayla's Day)
DESCRIPTION:Me and a few of my fellow blogger girls are getting in the spring cleaning mode and we decided to make a share week out of it. Each day\, one of us will take a day to share what all needs a little sprucing up in our houses and then we will take you along for the ride of our cleaning process and share all of our organizational tips and tricks to get ready for the summer. Also\, to make this even more fun\, we decided to give one of you girls a $100 giftcard to the Container Store to help you with your spring cleaning. We will be picking the winner on Saturday so make sure you are following all the girls and keeping with their stories to be entered in the giveaway. \nToday is Kayla’s day (@everythingkaylaxoxo) to share. Click on her IG handle to see what she has planned for you all today 🙂
URL:https://breathenfashion.com/event/spring-cleaning-share-week-kaylas-day/
END:VEVENT
BEGIN:VEVENT
DTSTART;TZID=America/New_York:20210412T110000
DTEND;TZID=America/New_York:20210412T233000
DTSTAMP:20260423T043147
CREATED:20210412T160153Z
LAST-MODIFIED:20210412T160153Z
UID:2179-1618225200-1618270200@breathenfashion.com
SUMMARY:Markdown Monday's (Modern & Chic)
DESCRIPTION:Every Monday\, Modern & Chic Boutique picks a different item to mark down for the day. If you use my code BREA20\, you can get an additional 20% off from the markdown price. \nThis Monday\, it’s the Khari Backpack. It comes in multiple different colors. They marked it down to $24.99 and with my code\, it marks it down to only $20. \nHere’s the link to take you directly to the backpack. Make sure to enter my code at check out to get that additional 20% off. \nThe Khari Backpack
URL:https://breathenfashion.com/event/markdown-mondays-modern-chic/
END:VEVENT
BEGIN:VEVENT
DTSTART;VALUE=DATE:20210413
DTEND;VALUE=DATE:20210414
DTSTAMP:20260423T043147
CREATED:20210412T161348Z
LAST-MODIFIED:20210412T161348Z
UID:2187-1618272000-1618358399@breathenfashion.com
SUMMARY:Spring Cleaning Share Week (Caitlin's Day)
DESCRIPTION:Me and a few of my fellow blogger girls are getting in the spring cleaning mode and we decided to make a share week out of it. Each day\, one of us will take a day to share what all needs a little sprucing up in our houses and then we will take you along for the ride of our cleaning process and share all of our organizational tips and tricks to get ready for the summer. Also\, to make this even more fun\, we decided to give one of you girls a $100 giftcard to the Container Store to help you with your spring cleaning. We will be picking the winner on Saturday so make sure you are following all the girls and keeping with their stories to be entered in the giveaway. \nToday is Caitlin’s day (@caitlinbabcockblog) to share. Click on her IG handle to see what she has planned for you all today 🙂
URL:https://breathenfashion.com/event/spring-cleaning-share-week-caitlins-day/
END:VEVENT
BEGIN:VEVENT
DTSTART;VALUE=DATE:20210414
DTEND;VALUE=DATE:20210415
DTSTAMP:20260423T043147
CREATED:20210412T161610Z
LAST-MODIFIED:20210412T161610Z
UID:2190-1618358400-1618444799@breathenfashion.com
SUMMARY:Spring Cleaning Share Week (Rachel's Day)
DESCRIPTION:Me and a few of my fellow blogger girls are getting in the spring cleaning mode and we decided to make a share week out of it. Each day\, one of us will take a day to share what all needs a little sprucing up in our houses and then we will take you along for the ride of our cleaning process and share all of our organizational tips and tricks to get ready for the summer. Also\, to make this even more fun\, we decided to give one of you girls a $100 giftcard to the Container Store to help you with your spring cleaning. We will be picking the winner on Saturday so make sure you are following all the girls and keeping with their stories to be entered in the giveaway. \nToday is Rachel’s day (@rachelmegs) to share. Click on her IG handle to see what she has planned for you all today 🙂
URL:https://breathenfashion.com/event/spring-cleaning-share-week-rachels-day/
END:VEVENT
BEGIN:VEVENT
DTSTART;VALUE=DATE:20210415
DTEND;VALUE=DATE:20210416
DTSTAMP:20260423T043147
CREATED:20210412T161831Z
LAST-MODIFIED:20210412T161831Z
UID:2193-1618444800-1618531199@breathenfashion.com
SUMMARY:Spring Cleaning Share Week (Kelby's Day)
DESCRIPTION:Me and a few of my fellow blogger girls are getting in the spring cleaning mode and we decided to make a share week out of it. Each day\, one of us will take a day to share what all needs a little sprucing up in our houses and then we will take you along for the ride of our cleaning process and share all of our organizational tips and tricks to get ready for the summer. Also\, to make this even more fun\, we decided to give one of you girls a $100 giftcard to the Container Store to help you with your spring cleaning. We will be picking the winner on Saturday so make sure you are following all the girls and keeping with their stories to be entered in the giveaway. \nToday is Kelby’s day (@kelby.jones) to share. Click on her IG handle to see what she has planned for you all today 🙂
URL:https://breathenfashion.com/event/spring-cleaning-share-week-kelbys-day/
END:VEVENT
BEGIN:VEVENT
DTSTART;VALUE=DATE:20210416
DTEND;VALUE=DATE:20210417
DTSTAMP:20260423T043147
CREATED:20210412T162016Z
LAST-MODIFIED:20210412T162016Z
UID:2196-1618531200-1618617599@breathenfashion.com
SUMMARY:Spring Cleaning Share Week (My Day)
DESCRIPTION:Me and a few of my fellow blogger girls are getting in the spring cleaning mode and we decided to make a share week out of it. Each day\, one of us will take a day to share what all needs a little sprucing up in our houses and then we will take you along for the ride of our cleaning process and share all of our organizational tips and tricks to get ready for the summer. Also\, to make this even more fun\, we decided to give one of you girls a $100 giftcard to the Container Store to help you with your spring cleaning. We will be picking the winner on Saturday so make sure you are following all the girls and keeping with their stories to be entered in the giveaway. \nToday is my day (@breathe_n_fashion) to share. Click on my IG handle to see what I have planned for you all today 🙂
URL:https://breathenfashion.com/event/spring-cleaning-share-week-my-day/
END:VEVENT
BEGIN:VEVENT
DTSTART;VALUE=DATE:20210518
DTEND;VALUE=DATE:20210519
DTSTAMP:20260423T043147
CREATED:20210506T185214Z
LAST-MODIFIED:20210506T185214Z
UID:2214-1621296000-1621382399@breathenfashion.com
SUMMARY:Summer Essentials
DESCRIPTION:Today on Instagram stories\, I will be sharing all of my favorite summer essentials with you guys. This includes swimsuits\, beach/pool bags\, accessories\, and more. \nBe sure to tune in! I will be linking everything I can into liketoknow.it as well. \nAny questions at all\, just shoot me a message!
URL:https://breathenfashion.com/event/summer-essentials/
END:VEVENT
BEGIN:VEVENT
DTSTART;VALUE=DATE:20210520
DTEND;VALUE=DATE:20210521
DTSTAMP:20260423T043147
CREATED:20210506T185615Z
LAST-MODIFIED:20210506T185615Z
UID:2216-1621468800-1621555199@breathenfashion.com
SUMMARY:What I'm Packing for Kalahari
DESCRIPTION:Today on Instagram stories\, I’m gonna be sharing how I pack for a trip and what I plan on taking with me to Kalahari \nBe sure to tune in to get all the tips & tricks! I will be linking everything I can on liketoknow.it! \nAny questions at all\, just shoot me a message!
URL:https://breathenfashion.com/event/what-im-packing-for-kalahari/
END:VEVENT
BEGIN:VEVENT
DTSTART;TZID=America/New_York:20210816T100000
DTEND;TZID=America/New_York:20210816T103000
DTSTAMP:20260423T043147
CREATED:20210815T203008Z
LAST-MODIFIED:20210815T203008Z
UID:2399-1629108000-1629109800@breathenfashion.com
SUMMARY:IG Stories: What's in my Shower?
DESCRIPTION:
URL:https://breathenfashion.com/event/ig-stories-whats-in-my-shower/
END:VEVENT
BEGIN:VEVENT
DTSTART;TZID=America/New_York:20210817T190000
DTEND;TZID=America/New_York:20210817T193000
DTSTAMP:20260423T043147
CREATED:20210815T203054Z
LAST-MODIFIED:20210815T203054Z
UID:2401-1629226800-1629228600@breathenfashion.com
SUMMARY:IG Stories: What's on the Menu?
DESCRIPTION:
URL:https://breathenfashion.com/event/ig-stories-whats-on-the-menu/
END:VEVENT
BEGIN:VEVENT
DTSTART;TZID=America/New_York:20210820T120000
DTEND;TZID=America/New_York:20210820T123000
DTSTAMP:20260423T043147
CREATED:20210815T203202Z
LAST-MODIFIED:20210815T203202Z
UID:2405-1629460800-1629462600@breathenfashion.com
SUMMARY:IG Stories: Top 10 Beauty Products
DESCRIPTION:
URL:https://breathenfashion.com/event/ig-stories-top-10-beauty-products/
END:VEVENT
BEGIN:VEVENT
DTSTART;TZID=America/New_York:20210820T130000
DTEND;TZID=America/New_York:20210820T133000
DTSTAMP:20260423T043147
CREATED:20210815T203126Z
LAST-MODIFIED:20210819T231230Z
UID:2403-1629464400-1629466200@breathenfashion.com
SUMMARY:IG Reel: Let's get Dressed!
DESCRIPTION:
URL:https://breathenfashion.com/event/ig-reel-lets-get-dressed/
END:VEVENT
BEGIN:VEVENT
DTSTART;TZID=America/New_York:20210821T120000
DTEND;TZID=America/New_York:20210821T123000
DTSTAMP:20260423T043147
CREATED:20210815T203235Z
LAST-MODIFIED:20210815T203235Z
UID:2407-1629547200-1629549000@breathenfashion.com
SUMMARY:Blog Post: Top 10 Beauty Products
DESCRIPTION:
URL:https://breathenfashion.com/event/blog-post-top-10-beauty-products/
END:VEVENT
BEGIN:VEVENT
DTSTART;TZID=America/New_York:20210823T130000
DTEND;TZID=America/New_York:20210823T133000
DTSTAMP:20260423T043147
CREATED:20210817T005912Z
LAST-MODIFIED:20210817T005912Z
UID:2438-1629723600-1629725400@breathenfashion.com
SUMMARY:IG Stories: Zara Try-On
DESCRIPTION:
URL:https://breathenfashion.com/event/ig-stories-zara-try-on/
END:VEVENT
BEGIN:VEVENT
DTSTART;TZID=America/New_York:20210824T190000
DTEND;TZID=America/New_York:20210824T193000
DTSTAMP:20260423T043147
CREATED:20210815T203318Z
LAST-MODIFIED:20210815T203318Z
UID:2409-1629831600-1629833400@breathenfashion.com
SUMMARY:IG Stories: What's on the Menu?
DESCRIPTION:
URL:https://breathenfashion.com/event/ig-stories-whats-on-the-menu-2/
END:VEVENT
BEGIN:VEVENT
DTSTART;TZID=America/New_York:20210827T130000
DTEND;TZID=America/New_York:20210827T133000
DTSTAMP:20260423T043147
CREATED:20210815T203425Z
LAST-MODIFIED:20210815T203425Z
UID:2413-1630069200-1630071000@breathenfashion.com
SUMMARY:IG Stories: 5 Ways to Style a Black Dress
DESCRIPTION:
URL:https://breathenfashion.com/event/ig-stories-5-ways-to-style-a-black-dress/
END:VEVENT
BEGIN:VEVENT
DTSTART;TZID=America/New_York:20210828T120000
DTEND;TZID=America/New_York:20210828T123000
DTSTAMP:20260423T043147
CREATED:20210815T203459Z
LAST-MODIFIED:20210815T203459Z
UID:2415-1630152000-1630153800@breathenfashion.com
SUMMARY:Blog Post: 5 Ways to Style a Black Dress
DESCRIPTION:
URL:https://breathenfashion.com/event/blog-post-5-ways-to-style-a-black-dress/
END:VEVENT
BEGIN:VEVENT
DTSTART;TZID=America/New_York:20210830T130000
DTEND;TZID=America/New_York:20210830T133000
DTSTAMP:20260423T043147
CREATED:20210817T005956Z
LAST-MODIFIED:20210817T005956Z
UID:2440-1630328400-1630330200@breathenfashion.com
SUMMARY:IG Stories: Kohl's Try-On
DESCRIPTION:
URL:https://breathenfashion.com/event/ig-stories-kohls-try-on/
END:VEVENT
BEGIN:VEVENT
DTSTART;TZID=America/New_York:20210831T190000
DTEND;TZID=America/New_York:20210831T193000
DTSTAMP:20260423T043147
CREATED:20210815T203528Z
LAST-MODIFIED:20210815T203528Z
UID:2417-1630436400-1630438200@breathenfashion.com
SUMMARY:IG Stories: What's on the Menu?
DESCRIPTION:
URL:https://breathenfashion.com/event/ig-stories-whats-on-the-menu-3/
END:VEVENT
END:VCALENDAR